BEGIN:VCALENDAR
VERSION:2.0
PRODID://BOUVET//no.bouvet.njff//NO
CALSCALE:GREGORIAN
METHOD:PUBLISH
BEGIN:VEVENT
DTSTART:20260602T180000
DTEND:20260602T200000
DTSTAMP:20260423T033626Z
UID:X20260423T033626Z8590@njff.no
ORGANIZER;CN=Norges Jeger og Fisker Forbund:MAILTO:no-reply@njff.no
SEQUENCE:0

TRANSP:OPAQUE
STATUS:CONFIRMED
SUMMARY:Rokurs barn/unge
DESCRIPTION:
END:VEVENT
END:VCALENDAR