BEGIN:VCALENDAR
VERSION:2.0
PRODID://BOUVET//no.bouvet.njff//NO
CALSCALE:GREGORIAN
METHOD:PUBLISH
BEGIN:VEVENT
DTSTART:20550723T180000
DTEND:20550723T220000
DTSTAMP:20260422T083253Z
UID:X20260422T083253Z5406@njff.no
ORGANIZER;CN=Norges Jeger og Fisker Forbund:MAILTO:no-reply@njff.no
SEQUENCE:0
RRULE:FREQ=WEEKLY;UNTIL=20610304T000000
TRANSP:OPAQUE
STATUS:CONFIRMED
SUMMARY:Fredagsmøte SJFFU - 23-07-2055
DESCRIPTION:
END:VEVENT
END:VCALENDAR