BEGIN:VCALENDAR
VERSION:2.0
PRODID://BOUVET//no.bouvet.njff//NO
CALSCALE:GREGORIAN
METHOD:PUBLISH
BEGIN:VEVENT
DTSTART:20260311T180000
DTEND:20260311T200000
DTSTAMP:20260422T083326Z
UID:X20260422T083326Z6855@njff.no
ORGANIZER;CN=Norges Jeger og Fisker Forbund:MAILTO:no-reply@njff.no
SEQUENCE:0
RRULE:FREQ=WEEKLY;UNTIL=20260325T000000
TRANSP:OPAQUE
STATUS:CONFIRMED
SUMMARY:Inne sklyting for ungdom - 11-03-2026
DESCRIPTION:
END:VEVENT
END:VCALENDAR