BEGIN:VCALENDAR
VERSION:2.0
PRODID://BOUVET//no.bouvet.njff//NO
CALSCALE:GREGORIAN
METHOD:PUBLISH
BEGIN:VEVENT
DTSTART:20260526T180000
DTEND:20260526T210000
DTSTAMP:20260422T111601Z
UID:X20260422T111601Z3554@njff.no
ORGANIZER;CN=Norges Jeger og Fisker Forbund:MAILTO:no-reply@njff.no
SEQUENCE:0

TRANSP:OPAQUE
STATUS:CONFIRMED
SUMMARY:Åpen trening på 100m banen
DESCRIPTION:
END:VEVENT
END:VCALENDAR