BEGIN:VCALENDAR
VERSION:2.0
PRODID://BOUVET//no.bouvet.njff//NO
CALSCALE:GREGORIAN
METHOD:PUBLISH
BEGIN:VEVENT
DTSTART:20260422T180000
DTEND:20260422T200000
DTSTAMP:20260422T040826Z
UID:X20260422T040826Z7185@njff.no
ORGANIZER;CN=Norges Jeger og Fisker Forbund:MAILTO:no-reply@njff.no
SEQUENCE:0
RRULE:FREQ=WEEKLY;UNTIL=20260826T000000
TRANSP:OPAQUE
STATUS:CONFIRMED
SUMMARY:Leirdueskyting Onsdager 2026 - 22-04-2026
DESCRIPTION:
END:VEVENT
END:VCALENDAR