BEGIN:VCALENDAR
VERSION:2.0
PRODID://BOUVET//no.bouvet.njff//NO
CALSCALE:GREGORIAN
METHOD:PUBLISH
BEGIN:VEVENT
DTSTART:20250806T180000
DTEND:20250813T210000
DTSTAMP:20260424T165756Z
UID:X20260424T165756Z642@njff.no
ORGANIZER;CN=Norges Jeger og Fisker Forbund:MAILTO:no-reply@njff.no
SEQUENCE:0

TRANSP:OPAQUE
STATUS:CONFIRMED
SUMMARY:Jegerprøvekurs August 2025
DESCRIPTION:
END:VEVENT
END:VCALENDAR