BEGIN:VCALENDAR
VERSION:2.0
PRODID://BOUVET//no.bouvet.njff//NO
CALSCALE:GREGORIAN
METHOD:PUBLISH
BEGIN:VEVENT
DTSTART:20260423T180000
DTEND:20260423T220000
DTSTAMP:20260423T113346Z
UID:X20260423T113346Z7612@njff.no
ORGANIZER;CN=Norges Jeger og Fisker Forbund:MAILTO:no-reply@njff.no
SEQUENCE:0

TRANSP:OPAQUE
STATUS:CONFIRMED
SUMMARY:Fluebinding og drøs for voksne
DESCRIPTION:
END:VEVENT
BEGIN:VEVENT
DTSTART:20251106T180000
DTEND:20251106T220000
DTSTAMP:20260423T113346Z
UID:X20260423T113346Z5521@njff.no
ORGANIZER;CN=Norges Jeger og Fisker Forbund:MAILTO:no-reply@njff.no
SEQUENCE:1

TRANSP:OPAQUE
STATUS:CONFIRMED
SUMMARY:Fluebinding og drøs for voksne
DESCRIPTION:
END:VEVENT
BEGIN:VEVENT
DTSTART:20251120T180000
DTEND:20251120T220000
DTSTAMP:20260423T113346Z
UID:X20260423T113346Z2690@njff.no
ORGANIZER;CN=Norges Jeger og Fisker Forbund:MAILTO:no-reply@njff.no
SEQUENCE:2

TRANSP:OPAQUE
STATUS:CONFIRMED
SUMMARY:Fluebinding og drøs for voksne
DESCRIPTION:
END:VEVENT
BEGIN:VEVENT
DTSTART:20251204T180000
DTEND:20251204T220000
DTSTAMP:20260423T113346Z
UID:X20260423T113346Z3641@njff.no
ORGANIZER;CN=Norges Jeger og Fisker Forbund:MAILTO:no-reply@njff.no
SEQUENCE:3

TRANSP:OPAQUE
STATUS:CONFIRMED
SUMMARY:Fluebinding og drøs for voksne
DESCRIPTION:
END:VEVENT
BEGIN:VEVENT
DTSTART:20251218T180000
DTEND:20251218T220000
DTSTAMP:20260423T113346Z
UID:X20260423T113346Z3736@njff.no
ORGANIZER;CN=Norges Jeger og Fisker Forbund:MAILTO:no-reply@njff.no
SEQUENCE:4

TRANSP:OPAQUE
STATUS:CONFIRMED
SUMMARY:Fluebinding og drøs for voksne
DESCRIPTION:
END:VEVENT
END:VCALENDAR