BEGIN:VCALENDAR
VERSION:2.0
PRODID://BOUVET//no.bouvet.njff//NO
CALSCALE:GREGORIAN
METHOD:PUBLISH
BEGIN:VEVENT
DTSTART:20260518T180000
DTEND:20260518T200000
DTSTAMP:20260422T095829Z
UID:X20260422T095829Z9943@njff.no
ORGANIZER;CN=Norges Jeger og Fisker Forbund:MAILTO:no-reply@njff.no
SEQUENCE:0
RRULE:FREQ=WEEKLY;UNTIL=20260907T000000
TRANSP:OPAQUE
STATUS:CONFIRMED
SUMMARY:Skytetrening utendørs ungdomsgruppa - 18-05-2026
DESCRIPTION:
END:VEVENT
END:VCALENDAR