BEGIN:VCALENDAR
VERSION:2.0
PRODID://BOUVET//no.bouvet.njff//NO
CALSCALE:GREGORIAN
METHOD:PUBLISH
BEGIN:VEVENT
DTSTART:20260807T200000
DTEND:20260807T235900
DTSTAMP:20260422T113214Z
UID:X20260422T113214Z8973@njff.no
ORGANIZER;CN=Norges Jeger og Fisker Forbund:MAILTO:no-reply@njff.no
SEQUENCE:0

TRANSP:OPAQUE
STATUS:CONFIRMED
SUMMARY:Introjakt rev (åtejakt) - 07-08-2026
DESCRIPTION:
END:VEVENT
BEGIN:VEVENT
DTSTART:20261128T180000
DTEND:20261128T235900
DTSTAMP:20260422T113214Z
UID:X20260422T113214Z6331@njff.no
ORGANIZER;CN=Norges Jeger og Fisker Forbund:MAILTO:no-reply@njff.no
SEQUENCE:1

TRANSP:OPAQUE
STATUS:CONFIRMED
SUMMARY:Introjakt rev (åtejakt) - 07-08-2026
DESCRIPTION:
END:VEVENT
END:VCALENDAR