BEGIN:VCALENDAR
VERSION:2.0
PRODID://BOUVET//no.bouvet.njff//NO
CALSCALE:GREGORIAN
METHOD:PUBLISH
BEGIN:VEVENT
DTSTART:20260604T180000
DTEND:20260604T203000
DTSTAMP:20260423T100224Z
UID:X20260423T100224Z4639@njff.no
ORGANIZER;CN=Norges Jeger og Fisker Forbund:MAILTO:no-reply@njff.no
SEQUENCE:0

TRANSP:OPAQUE
STATUS:CONFIRMED
SUMMARY:Fokus på hold av hund
DESCRIPTION:
END:VEVENT
END:VCALENDAR