BEGIN:VCALENDAR
VERSION:2.0
PRODID://BOUVET//no.bouvet.njff//NO
CALSCALE:GREGORIAN
METHOD:PUBLISH
BEGIN:VEVENT
DTSTART:20251105T180000
DTEND:20251105T200000
DTSTAMP:20260421T063400Z
UID:X20260421T063400Z5413@njff.no
ORGANIZER;CN=Norges Jeger og Fisker Forbund:MAILTO:no-reply@njff.no
SEQUENCE:0

TRANSP:OPAQUE
STATUS:CONFIRMED
SUMMARY:Miniatyrskyting
DESCRIPTION:
END:VEVENT
BEGIN:VEVENT
DTSTART:20251111T180000
DTEND:20251111T200000
DTSTAMP:20260421T063400Z
UID:X20260421T063400Z6383@njff.no
ORGANIZER;CN=Norges Jeger og Fisker Forbund:MAILTO:no-reply@njff.no
SEQUENCE:1

TRANSP:OPAQUE
STATUS:CONFIRMED
SUMMARY:Miniatyrskyting
DESCRIPTION:
END:VEVENT
BEGIN:VEVENT
DTSTART:20251217T180000
DTEND:20251217T200000
DTSTAMP:20260421T063400Z
UID:X20260421T063400Z1071@njff.no
ORGANIZER;CN=Norges Jeger og Fisker Forbund:MAILTO:no-reply@njff.no
SEQUENCE:2

TRANSP:OPAQUE
STATUS:CONFIRMED
SUMMARY:Miniatyrskyting
DESCRIPTION:
END:VEVENT
BEGIN:VEVENT
DTSTART:20260127T180000
DTEND:20260127T200000
DTSTAMP:20260421T063400Z
UID:X20260421T063400Z97@njff.no
ORGANIZER;CN=Norges Jeger og Fisker Forbund:MAILTO:no-reply@njff.no
SEQUENCE:3

TRANSP:OPAQUE
STATUS:CONFIRMED
SUMMARY:Miniatyrskyting
DESCRIPTION:
END:VEVENT
BEGIN:VEVENT
DTSTART:20260303T180000
DTEND:20260303T200000
DTSTAMP:20260421T063400Z
UID:X20260421T063400Z5913@njff.no
ORGANIZER;CN=Norges Jeger og Fisker Forbund:MAILTO:no-reply@njff.no
SEQUENCE:4

TRANSP:OPAQUE
STATUS:CONFIRMED
SUMMARY:Miniatyrskyting
DESCRIPTION:
END:VEVENT
BEGIN:VEVENT
DTSTART:20260311T180000
DTEND:20260311T200000
DTSTAMP:20260421T063400Z
UID:X20260421T063400Z9829@njff.no
ORGANIZER;CN=Norges Jeger og Fisker Forbund:MAILTO:no-reply@njff.no
SEQUENCE:5

TRANSP:OPAQUE
STATUS:CONFIRMED
SUMMARY:Miniatyrskyting
DESCRIPTION:
END:VEVENT
BEGIN:VEVENT
DTSTART:20260317T180000
DTEND:20260317T200000
DTSTAMP:20260421T063400Z
UID:X20260421T063400Z1841@njff.no
ORGANIZER;CN=Norges Jeger og Fisker Forbund:MAILTO:no-reply@njff.no
SEQUENCE:6

TRANSP:OPAQUE
STATUS:CONFIRMED
SUMMARY:Miniatyrskyting
DESCRIPTION:
END:VEVENT
BEGIN:VEVENT
DTSTART:20260325T180000
DTEND:20260325T200000
DTSTAMP:20260421T063400Z
UID:X20260421T063400Z2957@njff.no
ORGANIZER;CN=Norges Jeger og Fisker Forbund:MAILTO:no-reply@njff.no
SEQUENCE:7

TRANSP:OPAQUE
STATUS:CONFIRMED
SUMMARY:Miniatyrskyting
DESCRIPTION:
END:VEVENT
END:VCALENDAR