BEGIN:VCALENDAR
VERSION:2.0
PRODID://BOUVET//no.bouvet.njff//NO
CALSCALE:GREGORIAN
METHOD:PUBLISH
BEGIN:VEVENT
DTSTART:20250318T180000
DTEND:20250318T200000
DTSTAMP:20260425T153427Z
UID:X20260425T153427Z2800@njff.no
ORGANIZER;CN=Norges Jeger og Fisker Forbund:MAILTO:no-reply@njff.no
SEQUENCE:0
RRULE:FREQ=WEEKLY;UNTIL=20250617T000000
TRANSP:OPAQUE
STATUS:CONFIRMED
SUMMARY:Rifletrening jenter - 18-03-2025
DESCRIPTION:
END:VEVENT
END:VCALENDAR