BEGIN:VCALENDAR
VERSION:2.0
PRODID://BOUVET//no.bouvet.njff//NO
CALSCALE:GREGORIAN
METHOD:PUBLISH
BEGIN:VEVENT
DTSTART:20260423T170000
DTEND:20260423T200000
DTSTAMP:20260422T111601Z
UID:X20260422T111601Z4115@njff.no
ORGANIZER;CN=Norges Jeger og Fisker Forbund:MAILTO:no-reply@njff.no
SEQUENCE:0

TRANSP:OPAQUE
STATUS:CONFIRMED
SUMMARY:Skyting for jenter i alle aldere - 23-04-2026
DESCRIPTION:
END:VEVENT
BEGIN:VEVENT
DTSTART:20260507T170000
DTEND:20260507T200000
DTSTAMP:20260422T111601Z
UID:X20260422T111601Z168@njff.no
ORGANIZER;CN=Norges Jeger og Fisker Forbund:MAILTO:no-reply@njff.no
SEQUENCE:1

TRANSP:OPAQUE
STATUS:CONFIRMED
SUMMARY:Skyting for jenter i alle aldere - 23-04-2026
DESCRIPTION:
END:VEVENT
BEGIN:VEVENT
DTSTART:20260521T170000
DTEND:20260521T200000
DTSTAMP:20260422T111601Z
UID:X20260422T111601Z2250@njff.no
ORGANIZER;CN=Norges Jeger og Fisker Forbund:MAILTO:no-reply@njff.no
SEQUENCE:2

TRANSP:OPAQUE
STATUS:CONFIRMED
SUMMARY:Skyting for jenter i alle aldere - 23-04-2026
DESCRIPTION:
END:VEVENT
END:VCALENDAR