BEGIN:VCALENDAR
VERSION:2.0
PRODID://BOUVET//no.bouvet.njff//NO
CALSCALE:GREGORIAN
METHOD:PUBLISH
BEGIN:VEVENT
DTSTART:20261107T070000
DTEND:20261107T120000
DTSTAMP:20260422T113646Z
UID:X20260422T113646Z2916@njff.no
ORGANIZER;CN=Norges Jeger og Fisker Forbund:MAILTO:no-reply@njff.no
SEQUENCE:0

TRANSP:OPAQUE
STATUS:CONFIRMED
SUMMARY:Introjakt rådyr - 07-11-2026
DESCRIPTION:
END:VEVENT
BEGIN:VEVENT
DTSTART:20261114T070000
DTEND:20261114T120000
DTSTAMP:20260422T113646Z
UID:X20260422T113646Z432@njff.no
ORGANIZER;CN=Norges Jeger og Fisker Forbund:MAILTO:no-reply@njff.no
SEQUENCE:1

TRANSP:OPAQUE
STATUS:CONFIRMED
SUMMARY:Introjakt rådyr - 07-11-2026
DESCRIPTION:
END:VEVENT
BEGIN:VEVENT
DTSTART:20261121T070000
DTEND:20261121T120000
DTSTAMP:20260422T113646Z
UID:X20260422T113646Z2940@njff.no
ORGANIZER;CN=Norges Jeger og Fisker Forbund:MAILTO:no-reply@njff.no
SEQUENCE:2

TRANSP:OPAQUE
STATUS:CONFIRMED
SUMMARY:Introjakt rådyr - 07-11-2026
DESCRIPTION:
END:VEVENT
BEGIN:VEVENT
DTSTART:20261128T070000
DTEND:20261128T120000
DTSTAMP:20260422T113646Z
UID:X20260422T113646Z9932@njff.no
ORGANIZER;CN=Norges Jeger og Fisker Forbund:MAILTO:no-reply@njff.no
SEQUENCE:3

TRANSP:OPAQUE
STATUS:CONFIRMED
SUMMARY:Introjakt rådyr - 07-11-2026
DESCRIPTION:
END:VEVENT
END:VCALENDAR