BEGIN:VCALENDAR
VERSION:2.0
PRODID://BOUVET//no.bouvet.njff//NO
CALSCALE:GREGORIAN
METHOD:PUBLISH
BEGIN:VEVENT
DTSTART:20260506T180000
DTEND:20260506T220000
DTSTAMP:20260422T030153Z
UID:X20260422T030153Z5632@njff.no
ORGANIZER;CN=Norges Jeger og Fisker Forbund:MAILTO:no-reply@njff.no
SEQUENCE:0

TRANSP:OPAQUE
STATUS:CONFIRMED
SUMMARY:Beredskap. Ivaretakelse av viltkjøtt
DESCRIPTION:
END:VEVENT
END:VCALENDAR