BEGIN:VCALENDAR
VERSION:2.0
PRODID://BOUVET//no.bouvet.njff//NO
CALSCALE:GREGORIAN
METHOD:PUBLISH
BEGIN:VEVENT
DTSTART:20250927T090000
DTEND:20250928T160000
DTSTAMP:20260421T125937Z
UID:X20260421T125937Z2153@njff.no
ORGANIZER;CN=Norges Jeger og Fisker Forbund:MAILTO:no-reply@njff.no
SEQUENCE:0

TRANSP:OPAQUE
STATUS:CONFIRMED
SUMMARY:Jakt for damer
DESCRIPTION:
END:VEVENT
END:VCALENDAR