BEGIN:VCALENDAR
VERSION:2.0
PRODID://BOUVET//no.bouvet.njff//NO
CALSCALE:GREGORIAN
METHOD:PUBLISH
BEGIN:VEVENT
DTSTART:20260103T110000
DTEND:20260103T130000
DTSTAMP:20260425T123553Z
UID:X20260425T123553Z9291@njff.no
ORGANIZER;CN=Norges Jeger og Fisker Forbund:MAILTO:no-reply@njff.no
SEQUENCE:0

TRANSP:OPAQUE
STATUS:CONFIRMED
SUMMARY:Jaktfeltskyting på Steinsgård
DESCRIPTION:
END:VEVENT
BEGIN:VEVENT
DTSTART:20260110T110000
DTEND:20260110T130000
DTSTAMP:20260425T123553Z
UID:X20260425T123553Z539@njff.no
ORGANIZER;CN=Norges Jeger og Fisker Forbund:MAILTO:no-reply@njff.no
SEQUENCE:1

TRANSP:OPAQUE
STATUS:CONFIRMED
SUMMARY:Jaktfeltskyting på Steinsgård
DESCRIPTION:
END:VEVENT
BEGIN:VEVENT
DTSTART:20260117T110000
DTEND:20260117T130000
DTSTAMP:20260425T123553Z
UID:X20260425T123553Z4529@njff.no
ORGANIZER;CN=Norges Jeger og Fisker Forbund:MAILTO:no-reply@njff.no
SEQUENCE:2

TRANSP:OPAQUE
STATUS:CONFIRMED
SUMMARY:Jaktfeltskyting på Steinsgård
DESCRIPTION:
END:VEVENT
BEGIN:VEVENT
DTSTART:20260124T110000
DTEND:20260124T130000
DTSTAMP:20260425T123553Z
UID:X20260425T123553Z6924@njff.no
ORGANIZER;CN=Norges Jeger og Fisker Forbund:MAILTO:no-reply@njff.no
SEQUENCE:3

TRANSP:OPAQUE
STATUS:CONFIRMED
SUMMARY:Jaktfeltskyting på Steinsgård
DESCRIPTION:
END:VEVENT
BEGIN:VEVENT
DTSTART:20260131T110000
DTEND:20260131T130000
DTSTAMP:20260425T123553Z
UID:X20260425T123553Z1964@njff.no
ORGANIZER;CN=Norges Jeger og Fisker Forbund:MAILTO:no-reply@njff.no
SEQUENCE:4

TRANSP:OPAQUE
STATUS:CONFIRMED
SUMMARY:Jaktfeltskyting på Steinsgård
DESCRIPTION:
END:VEVENT
BEGIN:VEVENT
DTSTART:20260207T110000
DTEND:20260207T130000
DTSTAMP:20260425T123553Z
UID:X20260425T123553Z9982@njff.no
ORGANIZER;CN=Norges Jeger og Fisker Forbund:MAILTO:no-reply@njff.no
SEQUENCE:5

TRANSP:OPAQUE
STATUS:CONFIRMED
SUMMARY:Jaktfeltskyting på Steinsgård
DESCRIPTION:
END:VEVENT
BEGIN:VEVENT
DTSTART:20260214T110000
DTEND:20260214T130000
DTSTAMP:20260425T123553Z
UID:X20260425T123553Z8624@njff.no
ORGANIZER;CN=Norges Jeger og Fisker Forbund:MAILTO:no-reply@njff.no
SEQUENCE:6

TRANSP:OPAQUE
STATUS:CONFIRMED
SUMMARY:Jaktfeltskyting på Steinsgård
DESCRIPTION:
END:VEVENT
BEGIN:VEVENT
DTSTART:20260221T110000
DTEND:20260221T130000
DTSTAMP:20260425T123553Z
UID:X20260425T123553Z2530@njff.no
ORGANIZER;CN=Norges Jeger og Fisker Forbund:MAILTO:no-reply@njff.no
SEQUENCE:7

TRANSP:OPAQUE
STATUS:CONFIRMED
SUMMARY:Jaktfeltskyting på Steinsgård
DESCRIPTION:
END:VEVENT
BEGIN:VEVENT
DTSTART:20260228T110000
DTEND:20260228T130000
DTSTAMP:20260425T123553Z
UID:X20260425T123553Z1742@njff.no
ORGANIZER;CN=Norges Jeger og Fisker Forbund:MAILTO:no-reply@njff.no
SEQUENCE:8

TRANSP:OPAQUE
STATUS:CONFIRMED
SUMMARY:Jaktfeltskyting på Steinsgård
DESCRIPTION:
END:VEVENT
BEGIN:VEVENT
DTSTART:20260307T110000
DTEND:20260307T130000
DTSTAMP:20260425T123553Z
UID:X20260425T123553Z1553@njff.no
ORGANIZER;CN=Norges Jeger og Fisker Forbund:MAILTO:no-reply@njff.no
SEQUENCE:9

TRANSP:OPAQUE
STATUS:CONFIRMED
SUMMARY:Jaktfeltskyting på Steinsgård
DESCRIPTION:
END:VEVENT
BEGIN:VEVENT
DTSTART:20260314T110000
DTEND:20260314T130000
DTSTAMP:20260425T123553Z
UID:X20260425T123553Z6900@njff.no
ORGANIZER;CN=Norges Jeger og Fisker Forbund:MAILTO:no-reply@njff.no
SEQUENCE:10

TRANSP:OPAQUE
STATUS:CONFIRMED
SUMMARY:Jaktfeltskyting på Steinsgård
DESCRIPTION:
END:VEVENT
BEGIN:VEVENT
DTSTART:20260321T110000
DTEND:20260321T130000
DTSTAMP:20260425T123553Z
UID:X20260425T123553Z2761@njff.no
ORGANIZER;CN=Norges Jeger og Fisker Forbund:MAILTO:no-reply@njff.no
SEQUENCE:11

TRANSP:OPAQUE
STATUS:CONFIRMED
SUMMARY:Jaktfeltskyting på Steinsgård
DESCRIPTION:
END:VEVENT
BEGIN:VEVENT
DTSTART:20260328T110000
DTEND:20260328T130000
DTSTAMP:20260425T123553Z
UID:X20260425T123553Z747@njff.no
ORGANIZER;CN=Norges Jeger og Fisker Forbund:MAILTO:no-reply@njff.no
SEQUENCE:12

TRANSP:OPAQUE
STATUS:CONFIRMED
SUMMARY:Jaktfeltskyting på Steinsgård
DESCRIPTION:
END:VEVENT
END:VCALENDAR