BEGIN:VCALENDAR
VERSION:2.0
PRODID://BOUVET//no.bouvet.njff//NO
CALSCALE:GREGORIAN
METHOD:PUBLISH
BEGIN:VEVENT
DTSTART:20250807T190000
DTEND:20250807T210000
DTSTAMP:20260422T030039Z
UID:X20260422T030039Z9866@njff.no
ORGANIZER;CN=Norges Jeger og Fisker Forbund:MAILTO:no-reply@njff.no
SEQUENCE:0

TRANSP:OPAQUE
STATUS:CONFIRMED
SUMMARY:Sauaversjon 2025 - torsdag - 07-08-2025
DESCRIPTION:
END:VEVENT
BEGIN:VEVENT
DTSTART:20250814T190000
DTEND:20250814T210000
DTSTAMP:20260422T030039Z
UID:X20260422T030039Z2959@njff.no
ORGANIZER;CN=Norges Jeger og Fisker Forbund:MAILTO:no-reply@njff.no
SEQUENCE:1

TRANSP:OPAQUE
STATUS:CONFIRMED
SUMMARY:Sauaversjon 2025 - torsdag - 07-08-2025
DESCRIPTION:
END:VEVENT
BEGIN:VEVENT
DTSTART:20250821T190000
DTEND:20250821T210000
DTSTAMP:20260422T030039Z
UID:X20260422T030039Z7916@njff.no
ORGANIZER;CN=Norges Jeger og Fisker Forbund:MAILTO:no-reply@njff.no
SEQUENCE:2

TRANSP:OPAQUE
STATUS:CONFIRMED
SUMMARY:Sauaversjon 2025 - torsdag - 07-08-2025
DESCRIPTION:
END:VEVENT
BEGIN:VEVENT
DTSTART:20250828T190000
DTEND:20250828T210000
DTSTAMP:20260422T030039Z
UID:X20260422T030039Z6840@njff.no
ORGANIZER;CN=Norges Jeger og Fisker Forbund:MAILTO:no-reply@njff.no
SEQUENCE:3

TRANSP:OPAQUE
STATUS:CONFIRMED
SUMMARY:Sauaversjon 2025 - torsdag - 07-08-2025
DESCRIPTION:
END:VEVENT
END:VCALENDAR