BEGIN:VCALENDAR
VERSION:2.0
PRODID://BOUVET//no.bouvet.njff//NO
CALSCALE:GREGORIAN
METHOD:PUBLISH
BEGIN:VEVENT
DTSTART:20260425T140000
DTEND:20260425T160000
DTSTAMP:20260422T040827Z
UID:X20260422T040827Z7672@njff.no
ORGANIZER;CN=Norges Jeger og Fisker Forbund:MAILTO:no-reply@njff.no
SEQUENCE:0
RRULE:FREQ=WEEKLY;UNTIL=20260829T000000
TRANSP:OPAQUE
STATUS:CONFIRMED
SUMMARY:Leirdueskyting Lørdager 2026 - 25-04-2026
DESCRIPTION:
END:VEVENT
END:VCALENDAR