BEGIN:VCALENDAR
VERSION:2.0
PRODID://BOUVET//no.bouvet.njff//NO
CALSCALE:GREGORIAN
METHOD:PUBLISH
BEGIN:VEVENT
DTSTART:20260424T120000
DTEND:20260424T150000
DTSTAMP:20260423T131113Z
UID:X20260423T131113Z8064@njff.no
ORGANIZER;CN=Norges Jeger og Fisker Forbund:MAILTO:no-reply@njff.no
SEQUENCE:0

TRANSP:OPAQUE
STATUS:CONFIRMED
SUMMARY:Skyteaktivitet for ungdom
DESCRIPTION:
END:VEVENT
END:VCALENDAR