BEGIN:VCALENDAR
VERSION:2.0
PRODID://BOUVET//no.bouvet.njff//NO
CALSCALE:GREGORIAN
METHOD:PUBLISH
BEGIN:VEVENT
DTSTART:20260312T180000
DTEND:20260312T210000
DTSTAMP:20260422T100118Z
UID:X20260422T100118Z1251@njff.no
ORGANIZER;CN=Norges Jeger og Fisker Forbund:MAILTO:no-reply@njff.no
SEQUENCE:0

TRANSP:OPAQUE
STATUS:CONFIRMED
SUMMARY:Fluebindekveld - vår 2026 - 12-03-2026
DESCRIPTION:
END:VEVENT
BEGIN:VEVENT
DTSTART:20260129T180000
DTEND:20260129T210000
DTSTAMP:20260422T100118Z
UID:X20260422T100118Z1546@njff.no
ORGANIZER;CN=Norges Jeger og Fisker Forbund:MAILTO:no-reply@njff.no
SEQUENCE:1

TRANSP:OPAQUE
STATUS:CONFIRMED
SUMMARY:Fluebindekveld - vår 2026 - 12-03-2026
DESCRIPTION:
END:VEVENT
BEGIN:VEVENT
DTSTART:20260205T180000
DTEND:20260205T210000
DTSTAMP:20260422T100118Z
UID:X20260422T100118Z9913@njff.no
ORGANIZER;CN=Norges Jeger og Fisker Forbund:MAILTO:no-reply@njff.no
SEQUENCE:2

TRANSP:OPAQUE
STATUS:CONFIRMED
SUMMARY:Fluebindekveld - vår 2026 - 12-03-2026
DESCRIPTION:
END:VEVENT
BEGIN:VEVENT
DTSTART:20260212T180000
DTEND:20260212T210000
DTSTAMP:20260422T100118Z
UID:X20260422T100118Z557@njff.no
ORGANIZER;CN=Norges Jeger og Fisker Forbund:MAILTO:no-reply@njff.no
SEQUENCE:3

TRANSP:OPAQUE
STATUS:CONFIRMED
SUMMARY:Fluebindekveld - vår 2026 - 12-03-2026
DESCRIPTION:
END:VEVENT
BEGIN:VEVENT
DTSTART:20260219T180000
DTEND:20260219T210000
DTSTAMP:20260422T100118Z
UID:X20260422T100118Z3993@njff.no
ORGANIZER;CN=Norges Jeger og Fisker Forbund:MAILTO:no-reply@njff.no
SEQUENCE:4

TRANSP:OPAQUE
STATUS:CONFIRMED
SUMMARY:Fluebindekveld - vår 2026 - 12-03-2026
DESCRIPTION:
END:VEVENT
BEGIN:VEVENT
DTSTART:20260226T180000
DTEND:20260226T210000
DTSTAMP:20260422T100118Z
UID:X20260422T100118Z8670@njff.no
ORGANIZER;CN=Norges Jeger og Fisker Forbund:MAILTO:no-reply@njff.no
SEQUENCE:5

TRANSP:OPAQUE
STATUS:CONFIRMED
SUMMARY:Fluebindekveld - vår 2026 - 12-03-2026
DESCRIPTION:
END:VEVENT
BEGIN:VEVENT
DTSTART:20260305T180000
DTEND:20260305T210000
DTSTAMP:20260422T100118Z
UID:X20260422T100118Z4905@njff.no
ORGANIZER;CN=Norges Jeger og Fisker Forbund:MAILTO:no-reply@njff.no
SEQUENCE:6

TRANSP:OPAQUE
STATUS:CONFIRMED
SUMMARY:Fluebindekveld - vår 2026 - 12-03-2026
DESCRIPTION:
END:VEVENT
BEGIN:VEVENT
DTSTART:20260312T180000
DTEND:20260312T210000
DTSTAMP:20260422T100118Z
UID:X20260422T100118Z8526@njff.no
ORGANIZER;CN=Norges Jeger og Fisker Forbund:MAILTO:no-reply@njff.no
SEQUENCE:7

TRANSP:OPAQUE
STATUS:CONFIRMED
SUMMARY:Fluebindekveld - vår 2026 - 12-03-2026
DESCRIPTION:
END:VEVENT
BEGIN:VEVENT
DTSTART:20260319T180000
DTEND:20251211T210000
DTSTAMP:20260422T100118Z
UID:X20260422T100118Z2294@njff.no
ORGANIZER;CN=Norges Jeger og Fisker Forbund:MAILTO:no-reply@njff.no
SEQUENCE:8

TRANSP:OPAQUE
STATUS:CONFIRMED
SUMMARY:Fluebindekveld - vår 2026 - 12-03-2026
DESCRIPTION:
END:VEVENT
BEGIN:VEVENT
DTSTART:20260326T180000
DTEND:20260326T210000
DTSTAMP:20260422T100118Z
UID:X20260422T100118Z4357@njff.no
ORGANIZER;CN=Norges Jeger og Fisker Forbund:MAILTO:no-reply@njff.no
SEQUENCE:9

TRANSP:OPAQUE
STATUS:CONFIRMED
SUMMARY:Fluebindekveld - vår 2026 - 12-03-2026
DESCRIPTION:
END:VEVENT
BEGIN:VEVENT
DTSTART:20260402T180000
DTEND:20260402T210000
DTSTAMP:20260422T100118Z
UID:X20260422T100118Z9416@njff.no
ORGANIZER;CN=Norges Jeger og Fisker Forbund:MAILTO:no-reply@njff.no
SEQUENCE:10

TRANSP:OPAQUE
STATUS:CONFIRMED
SUMMARY:Fluebindekveld - vår 2026 - 12-03-2026
DESCRIPTION:
END:VEVENT
BEGIN:VEVENT
DTSTART:20260409T180000
DTEND:20260409T210000
DTSTAMP:20260422T100118Z
UID:X20260422T100118Z6666@njff.no
ORGANIZER;CN=Norges Jeger og Fisker Forbund:MAILTO:no-reply@njff.no
SEQUENCE:11

TRANSP:OPAQUE
STATUS:CONFIRMED
SUMMARY:Fluebindekveld - vår 2026 - 12-03-2026
DESCRIPTION:
END:VEVENT
BEGIN:VEVENT
DTSTART:20260416T180000
DTEND:20260416T210000
DTSTAMP:20260422T100118Z
UID:X20260422T100118Z2722@njff.no
ORGANIZER;CN=Norges Jeger og Fisker Forbund:MAILTO:no-reply@njff.no
SEQUENCE:12

TRANSP:OPAQUE
STATUS:CONFIRMED
SUMMARY:Fluebindekveld - vår 2026 - 12-03-2026
DESCRIPTION:
END:VEVENT
BEGIN:VEVENT
DTSTART:20260423T180000
DTEND:20260423T210000
DTSTAMP:20260422T100118Z
UID:X20260422T100118Z6020@njff.no
ORGANIZER;CN=Norges Jeger og Fisker Forbund:MAILTO:no-reply@njff.no
SEQUENCE:13

TRANSP:OPAQUE
STATUS:CONFIRMED
SUMMARY:Fluebindekveld - vår 2026 - 12-03-2026
DESCRIPTION:
END:VEVENT
BEGIN:VEVENT
DTSTART:20260430T180000
DTEND:20260430T210000
DTSTAMP:20260422T100118Z
UID:X20260422T100118Z8391@njff.no
ORGANIZER;CN=Norges Jeger og Fisker Forbund:MAILTO:no-reply@njff.no
SEQUENCE:14

TRANSP:OPAQUE
STATUS:CONFIRMED
SUMMARY:Fluebindekveld - vår 2026 - 12-03-2026
DESCRIPTION:
END:VEVENT
BEGIN:VEVENT
DTSTART:20260507T180000
DTEND:20260507T210000
DTSTAMP:20260422T100118Z
UID:X20260422T100118Z4417@njff.no
ORGANIZER;CN=Norges Jeger og Fisker Forbund:MAILTO:no-reply@njff.no
SEQUENCE:15

TRANSP:OPAQUE
STATUS:CONFIRMED
SUMMARY:Fluebindekveld - vår 2026 - 12-03-2026
DESCRIPTION:
END:VEVENT
BEGIN:VEVENT
DTSTART:20260514T180000
DTEND:20260514T210000
DTSTAMP:20260422T100118Z
UID:X20260422T100118Z8388@njff.no
ORGANIZER;CN=Norges Jeger og Fisker Forbund:MAILTO:no-reply@njff.no
SEQUENCE:16

TRANSP:OPAQUE
STATUS:CONFIRMED
SUMMARY:Fluebindekveld - vår 2026 - 12-03-2026
DESCRIPTION:
END:VEVENT
BEGIN:VEVENT
DTSTART:20260521T180000
DTEND:20260521T210000
DTSTAMP:20260422T100118Z
UID:X20260422T100118Z717@njff.no
ORGANIZER;CN=Norges Jeger og Fisker Forbund:MAILTO:no-reply@njff.no
SEQUENCE:17

TRANSP:OPAQUE
STATUS:CONFIRMED
SUMMARY:Fluebindekveld - vår 2026 - 12-03-2026
DESCRIPTION:
END:VEVENT
BEGIN:VEVENT
DTSTART:20260528T180000
DTEND:20260528T210000
DTSTAMP:20260422T100118Z
UID:X20260422T100118Z2964@njff.no
ORGANIZER;CN=Norges Jeger og Fisker Forbund:MAILTO:no-reply@njff.no
SEQUENCE:18

TRANSP:OPAQUE
STATUS:CONFIRMED
SUMMARY:Fluebindekveld - vår 2026 - 12-03-2026
DESCRIPTION:
END:VEVENT
END:VCALENDAR