BEGIN:VCALENDAR
VERSION:2.0
PRODID://BOUVET//no.bouvet.njff//NO
CALSCALE:GREGORIAN
METHOD:PUBLISH
BEGIN:VEVENT
DTSTART:20260508T160000
DTEND:20260510T150000
DTSTAMP:20260426T025120Z
UID:X20260426T025120Z2757@njff.no
ORGANIZER;CN=Norges Jeger og Fisker Forbund:MAILTO:no-reply@njff.no
SEQUENCE:0

TRANSP:OPAQUE
STATUS:CONFIRMED
SUMMARY:Barne- og ungdomslederkonferansen 2026
DESCRIPTION:
END:VEVENT
END:VCALENDAR