BEGIN:VCALENDAR
VERSION:2.0
PRODID://BOUVET//no.bouvet.njff//NO
CALSCALE:GREGORIAN
METHOD:PUBLISH
BEGIN:VEVENT
DTSTART:20260421T180000
DTEND:20260421T200000
DTSTAMP:20260419T124903Z
UID:X20260419T124903Z770@njff.no
ORGANIZER;CN=Norges Jeger og Fisker Forbund:MAILTO:no-reply@njff.no
SEQUENCE:0
RRULE:FREQ=WEEKLY;UNTIL=20260925T000000
TRANSP:OPAQUE
STATUS:CONFIRMED
SUMMARY:Rifleskyting - Fellemyra - 21-04-2026
DESCRIPTION:
END:VEVENT
END:VCALENDAR