BEGIN:VCALENDAR
VERSION:2.0
PRODID://BOUVET//no.bouvet.njff//NO
CALSCALE:GREGORIAN
METHOD:PUBLISH
BEGIN:VEVENT
DTSTART:20260601T180000
DTEND:20260601T200000
DTSTAMP:20260425T131518Z
UID:X20260425T131518Z9588@njff.no
ORGANIZER;CN=Norges Jeger og Fisker Forbund:MAILTO:no-reply@njff.no
SEQUENCE:0

TRANSP:OPAQUE
STATUS:CONFIRMED
SUMMARY:Garntrekking ørret
DESCRIPTION:
END:VEVENT
END:VCALENDAR