BEGIN:VCALENDAR
VERSION:2.0
PRODID://BOUVET//no.bouvet.njff//NO
CALSCALE:GREGORIAN
METHOD:PUBLISH
BEGIN:VEVENT
DTSTART:20250828T180000
DTEND:20250828T210000
DTSTAMP:20260424T035755Z
UID:X20260424T035755Z459@njff.no
ORGANIZER;CN=Norges Jeger og Fisker Forbund:MAILTO:no-reply@njff.no
SEQUENCE:0

TRANSP:OPAQUE
STATUS:CONFIRMED
SUMMARY:Årets aktiviteter på Lerduebanen - 28-08-2025
DESCRIPTION:
END:VEVENT
BEGIN:VEVENT
DTSTART:20250515T180000
DTEND:20250515T210000
DTSTAMP:20260424T035755Z
UID:X20260424T035755Z3695@njff.no
ORGANIZER;CN=Norges Jeger og Fisker Forbund:MAILTO:no-reply@njff.no
SEQUENCE:1

TRANSP:OPAQUE
STATUS:CONFIRMED
SUMMARY:Årets aktiviteter på Lerduebanen - 28-08-2025
DESCRIPTION:
END:VEVENT
BEGIN:VEVENT
DTSTART:20250519T180000
DTEND:20250519T210000
DTSTAMP:20260424T035755Z
UID:X20260424T035755Z1813@njff.no
ORGANIZER;CN=Norges Jeger og Fisker Forbund:MAILTO:no-reply@njff.no
SEQUENCE:2

TRANSP:OPAQUE
STATUS:CONFIRMED
SUMMARY:Årets aktiviteter på Lerduebanen - 28-08-2025
DESCRIPTION:
END:VEVENT
BEGIN:VEVENT
DTSTART:20250522T180000
DTEND:20250522T210000
DTSTAMP:20260424T035755Z
UID:X20260424T035755Z5356@njff.no
ORGANIZER;CN=Norges Jeger og Fisker Forbund:MAILTO:no-reply@njff.no
SEQUENCE:3

TRANSP:OPAQUE
STATUS:CONFIRMED
SUMMARY:Årets aktiviteter på Lerduebanen - 28-08-2025
DESCRIPTION:
END:VEVENT
BEGIN:VEVENT
DTSTART:20250526T180000
DTEND:20250526T210000
DTSTAMP:20260424T035755Z
UID:X20260424T035755Z3983@njff.no
ORGANIZER;CN=Norges Jeger og Fisker Forbund:MAILTO:no-reply@njff.no
SEQUENCE:4

TRANSP:OPAQUE
STATUS:CONFIRMED
SUMMARY:Årets aktiviteter på Lerduebanen - 28-08-2025
DESCRIPTION:
END:VEVENT
BEGIN:VEVENT
DTSTART:20250602T180000
DTEND:20250602T210000
DTSTAMP:20260424T035755Z
UID:X20260424T035755Z8073@njff.no
ORGANIZER;CN=Norges Jeger og Fisker Forbund:MAILTO:no-reply@njff.no
SEQUENCE:5

TRANSP:OPAQUE
STATUS:CONFIRMED
SUMMARY:Årets aktiviteter på Lerduebanen - 28-08-2025
DESCRIPTION:
END:VEVENT
BEGIN:VEVENT
DTSTART:20250605T180000
DTEND:20250605T210000
DTSTAMP:20260424T035755Z
UID:X20260424T035755Z714@njff.no
ORGANIZER;CN=Norges Jeger og Fisker Forbund:MAILTO:no-reply@njff.no
SEQUENCE:6

TRANSP:OPAQUE
STATUS:CONFIRMED
SUMMARY:Årets aktiviteter på Lerduebanen - 28-08-2025
DESCRIPTION:
END:VEVENT
BEGIN:VEVENT
DTSTART:20250612T180000
DTEND:20250612T210000
DTSTAMP:20260424T035755Z
UID:X20260424T035755Z4337@njff.no
ORGANIZER;CN=Norges Jeger og Fisker Forbund:MAILTO:no-reply@njff.no
SEQUENCE:7

TRANSP:OPAQUE
STATUS:CONFIRMED
SUMMARY:Årets aktiviteter på Lerduebanen - 28-08-2025
DESCRIPTION:
END:VEVENT
BEGIN:VEVENT
DTSTART:20250616T180000
DTEND:20250616T210000
DTSTAMP:20260424T035755Z
UID:X20260424T035755Z7011@njff.no
ORGANIZER;CN=Norges Jeger og Fisker Forbund:MAILTO:no-reply@njff.no
SEQUENCE:8

TRANSP:OPAQUE
STATUS:CONFIRMED
SUMMARY:Årets aktiviteter på Lerduebanen - 28-08-2025
DESCRIPTION:
END:VEVENT
BEGIN:VEVENT
DTSTART:20250619T180000
DTEND:20250619T210000
DTSTAMP:20260424T035755Z
UID:X20260424T035755Z8894@njff.no
ORGANIZER;CN=Norges Jeger og Fisker Forbund:MAILTO:no-reply@njff.no
SEQUENCE:9

TRANSP:OPAQUE
STATUS:CONFIRMED
SUMMARY:Årets aktiviteter på Lerduebanen - 28-08-2025
DESCRIPTION:
END:VEVENT
BEGIN:VEVENT
DTSTART:20250626T180000
DTEND:20250626T180000
DTSTAMP:20260424T035755Z
UID:X20260424T035755Z2588@njff.no
ORGANIZER;CN=Norges Jeger og Fisker Forbund:MAILTO:no-reply@njff.no
SEQUENCE:10

TRANSP:OPAQUE
STATUS:CONFIRMED
SUMMARY:Årets aktiviteter på Lerduebanen - 28-08-2025
DESCRIPTION:
END:VEVENT
BEGIN:VEVENT
DTSTART:20250630T180000
DTEND:20250630T210000
DTSTAMP:20260424T035755Z
UID:X20260424T035755Z9136@njff.no
ORGANIZER;CN=Norges Jeger og Fisker Forbund:MAILTO:no-reply@njff.no
SEQUENCE:11

TRANSP:OPAQUE
STATUS:CONFIRMED
SUMMARY:Årets aktiviteter på Lerduebanen - 28-08-2025
DESCRIPTION:
END:VEVENT
BEGIN:VEVENT
DTSTART:20250703T180000
DTEND:20250703T210000
DTSTAMP:20260424T035755Z
UID:X20260424T035755Z3099@njff.no
ORGANIZER;CN=Norges Jeger og Fisker Forbund:MAILTO:no-reply@njff.no
SEQUENCE:12

TRANSP:OPAQUE
STATUS:CONFIRMED
SUMMARY:Årets aktiviteter på Lerduebanen - 28-08-2025
DESCRIPTION:
END:VEVENT
BEGIN:VEVENT
DTSTART:20250728T180000
DTEND:20250728T210000
DTSTAMP:20260424T035755Z
UID:X20260424T035755Z457@njff.no
ORGANIZER;CN=Norges Jeger og Fisker Forbund:MAILTO:no-reply@njff.no
SEQUENCE:13

TRANSP:OPAQUE
STATUS:CONFIRMED
SUMMARY:Årets aktiviteter på Lerduebanen - 28-08-2025
DESCRIPTION:
END:VEVENT
BEGIN:VEVENT
DTSTART:20250731T180000
DTEND:20250731T210000
DTSTAMP:20260424T035755Z
UID:X20260424T035755Z9119@njff.no
ORGANIZER;CN=Norges Jeger og Fisker Forbund:MAILTO:no-reply@njff.no
SEQUENCE:14

TRANSP:OPAQUE
STATUS:CONFIRMED
SUMMARY:Årets aktiviteter på Lerduebanen - 28-08-2025
DESCRIPTION:
END:VEVENT
BEGIN:VEVENT
DTSTART:20250804T180000
DTEND:20250804T210000
DTSTAMP:20260424T035755Z
UID:X20260424T035755Z5085@njff.no
ORGANIZER;CN=Norges Jeger og Fisker Forbund:MAILTO:no-reply@njff.no
SEQUENCE:15

TRANSP:OPAQUE
STATUS:CONFIRMED
SUMMARY:Årets aktiviteter på Lerduebanen - 28-08-2025
DESCRIPTION:
END:VEVENT
BEGIN:VEVENT
DTSTART:20250807T180000
DTEND:20250807T210000
DTSTAMP:20260424T035755Z
UID:X20260424T035755Z45@njff.no
ORGANIZER;CN=Norges Jeger og Fisker Forbund:MAILTO:no-reply@njff.no
SEQUENCE:16

TRANSP:OPAQUE
STATUS:CONFIRMED
SUMMARY:Årets aktiviteter på Lerduebanen - 28-08-2025
DESCRIPTION:
END:VEVENT
BEGIN:VEVENT
DTSTART:20250811T180000
DTEND:20250811T210000
DTSTAMP:20260424T035755Z
UID:X20260424T035755Z4936@njff.no
ORGANIZER;CN=Norges Jeger og Fisker Forbund:MAILTO:no-reply@njff.no
SEQUENCE:17

TRANSP:OPAQUE
STATUS:CONFIRMED
SUMMARY:Årets aktiviteter på Lerduebanen - 28-08-2025
DESCRIPTION:
END:VEVENT
BEGIN:VEVENT
DTSTART:20250814T180000
DTEND:20250814T210000
DTSTAMP:20260424T035755Z
UID:X20260424T035755Z776@njff.no
ORGANIZER;CN=Norges Jeger og Fisker Forbund:MAILTO:no-reply@njff.no
SEQUENCE:18

TRANSP:OPAQUE
STATUS:CONFIRMED
SUMMARY:Årets aktiviteter på Lerduebanen - 28-08-2025
DESCRIPTION:
END:VEVENT
BEGIN:VEVENT
DTSTART:20250818T180000
DTEND:20250818T210000
DTSTAMP:20260424T035755Z
UID:X20260424T035755Z1003@njff.no
ORGANIZER;CN=Norges Jeger og Fisker Forbund:MAILTO:no-reply@njff.no
SEQUENCE:19

TRANSP:OPAQUE
STATUS:CONFIRMED
SUMMARY:Årets aktiviteter på Lerduebanen - 28-08-2025
DESCRIPTION:
END:VEVENT
BEGIN:VEVENT
DTSTART:20250821T180000
DTEND:20250821T210000
DTSTAMP:20260424T035755Z
UID:X20260424T035755Z5831@njff.no
ORGANIZER;CN=Norges Jeger og Fisker Forbund:MAILTO:no-reply@njff.no
SEQUENCE:20

TRANSP:OPAQUE
STATUS:CONFIRMED
SUMMARY:Årets aktiviteter på Lerduebanen - 28-08-2025
DESCRIPTION:
END:VEVENT
BEGIN:VEVENT
DTSTART:20250825T180000
DTEND:20250825T210000
DTSTAMP:20260424T035755Z
UID:X20260424T035755Z1091@njff.no
ORGANIZER;CN=Norges Jeger og Fisker Forbund:MAILTO:no-reply@njff.no
SEQUENCE:21

TRANSP:OPAQUE
STATUS:CONFIRMED
SUMMARY:Årets aktiviteter på Lerduebanen - 28-08-2025
DESCRIPTION:
END:VEVENT
BEGIN:VEVENT
DTSTART:20250828T180000
DTEND:20250828T210000
DTSTAMP:20260424T035755Z
UID:X20260424T035755Z3512@njff.no
ORGANIZER;CN=Norges Jeger og Fisker Forbund:MAILTO:no-reply@njff.no
SEQUENCE:22

TRANSP:OPAQUE
STATUS:CONFIRMED
SUMMARY:Årets aktiviteter på Lerduebanen - 28-08-2025
DESCRIPTION:
END:VEVENT
BEGIN:VEVENT
DTSTART:20250901T180000
DTEND:20250901T210000
DTSTAMP:20260424T035755Z
UID:X20260424T035755Z4775@njff.no
ORGANIZER;CN=Norges Jeger og Fisker Forbund:MAILTO:no-reply@njff.no
SEQUENCE:23

TRANSP:OPAQUE
STATUS:CONFIRMED
SUMMARY:Årets aktiviteter på Lerduebanen - 28-08-2025
DESCRIPTION:
END:VEVENT
BEGIN:VEVENT
DTSTART:20250904T180000
DTEND:20250904T210000
DTSTAMP:20260424T035755Z
UID:X20260424T035755Z924@njff.no
ORGANIZER;CN=Norges Jeger og Fisker Forbund:MAILTO:no-reply@njff.no
SEQUENCE:24

TRANSP:OPAQUE
STATUS:CONFIRMED
SUMMARY:Årets aktiviteter på Lerduebanen - 28-08-2025
DESCRIPTION:
END:VEVENT
BEGIN:VEVENT
DTSTART:20250908T180000
DTEND:20250908T210000
DTSTAMP:20260424T035755Z
UID:X20260424T035755Z5599@njff.no
ORGANIZER;CN=Norges Jeger og Fisker Forbund:MAILTO:no-reply@njff.no
SEQUENCE:25

TRANSP:OPAQUE
STATUS:CONFIRMED
SUMMARY:Årets aktiviteter på Lerduebanen - 28-08-2025
DESCRIPTION:
END:VEVENT
END:VCALENDAR