BEGIN:VCALENDAR
VERSION:2.0
PRODID://BOUVET//no.bouvet.njff//NO
CALSCALE:GREGORIAN
METHOD:PUBLISH
BEGIN:VEVENT
DTSTART:20260124T110000
DTEND:20260124T130000
DTSTAMP:20260425T111218Z
UID:X20260425T111218Z7539@njff.no
ORGANIZER;CN=Norges Jeger og Fisker Forbund:MAILTO:no-reply@njff.no
SEQUENCE:0

TRANSP:OPAQUE
STATUS:CONFIRMED
SUMMARY:Jaktfeltskyting på Steinsgård - 24-01-2026
DESCRIPTION:
END:VEVENT
BEGIN:VEVENT
DTSTART:20260110T110000
DTEND:20260110T130000
DTSTAMP:20260425T111218Z
UID:X20260425T111218Z1590@njff.no
ORGANIZER;CN=Norges Jeger og Fisker Forbund:MAILTO:no-reply@njff.no
SEQUENCE:1

TRANSP:OPAQUE
STATUS:CONFIRMED
SUMMARY:Jaktfeltskyting på Steinsgård - 24-01-2026
DESCRIPTION:
END:VEVENT
BEGIN:VEVENT
DTSTART:20260117T110000
DTEND:20260117T130000
DTSTAMP:20260425T111218Z
UID:X20260425T111218Z4012@njff.no
ORGANIZER;CN=Norges Jeger og Fisker Forbund:MAILTO:no-reply@njff.no
SEQUENCE:2

TRANSP:OPAQUE
STATUS:CONFIRMED
SUMMARY:Jaktfeltskyting på Steinsgård - 24-01-2026
DESCRIPTION:
END:VEVENT
BEGIN:VEVENT
DTSTART:20260124T110000
DTEND:20260124T130000
DTSTAMP:20260425T111218Z
UID:X20260425T111218Z3469@njff.no
ORGANIZER;CN=Norges Jeger og Fisker Forbund:MAILTO:no-reply@njff.no
SEQUENCE:3

TRANSP:OPAQUE
STATUS:CONFIRMED
SUMMARY:Jaktfeltskyting på Steinsgård - 24-01-2026
DESCRIPTION:
END:VEVENT
BEGIN:VEVENT
DTSTART:20260131T110000
DTEND:20260131T130000
DTSTAMP:20260425T111218Z
UID:X20260425T111218Z9373@njff.no
ORGANIZER;CN=Norges Jeger og Fisker Forbund:MAILTO:no-reply@njff.no
SEQUENCE:4

TRANSP:OPAQUE
STATUS:CONFIRMED
SUMMARY:Jaktfeltskyting på Steinsgård - 24-01-2026
DESCRIPTION:
END:VEVENT
BEGIN:VEVENT
DTSTART:20260207T110000
DTEND:20260207T130000
DTSTAMP:20260425T111218Z
UID:X20260425T111218Z6246@njff.no
ORGANIZER;CN=Norges Jeger og Fisker Forbund:MAILTO:no-reply@njff.no
SEQUENCE:5

TRANSP:OPAQUE
STATUS:CONFIRMED
SUMMARY:Jaktfeltskyting på Steinsgård - 24-01-2026
DESCRIPTION:
END:VEVENT
BEGIN:VEVENT
DTSTART:20260214T110000
DTEND:20260214T130000
DTSTAMP:20260425T111218Z
UID:X20260425T111218Z4181@njff.no
ORGANIZER;CN=Norges Jeger og Fisker Forbund:MAILTO:no-reply@njff.no
SEQUENCE:6

TRANSP:OPAQUE
STATUS:CONFIRMED
SUMMARY:Jaktfeltskyting på Steinsgård - 24-01-2026
DESCRIPTION:
END:VEVENT
BEGIN:VEVENT
DTSTART:20260221T110000
DTEND:20260221T130000
DTSTAMP:20260425T111218Z
UID:X20260425T111218Z6407@njff.no
ORGANIZER;CN=Norges Jeger og Fisker Forbund:MAILTO:no-reply@njff.no
SEQUENCE:7

TRANSP:OPAQUE
STATUS:CONFIRMED
SUMMARY:Jaktfeltskyting på Steinsgård - 24-01-2026
DESCRIPTION:
END:VEVENT
BEGIN:VEVENT
DTSTART:20260228T110000
DTEND:20260228T130000
DTSTAMP:20260425T111218Z
UID:X20260425T111218Z7728@njff.no
ORGANIZER;CN=Norges Jeger og Fisker Forbund:MAILTO:no-reply@njff.no
SEQUENCE:8

TRANSP:OPAQUE
STATUS:CONFIRMED
SUMMARY:Jaktfeltskyting på Steinsgård - 24-01-2026
DESCRIPTION:
END:VEVENT
BEGIN:VEVENT
DTSTART:20260307T110000
DTEND:20260307T130000
DTSTAMP:20260425T111218Z
UID:X20260425T111218Z2687@njff.no
ORGANIZER;CN=Norges Jeger og Fisker Forbund:MAILTO:no-reply@njff.no
SEQUENCE:9

TRANSP:OPAQUE
STATUS:CONFIRMED
SUMMARY:Jaktfeltskyting på Steinsgård - 24-01-2026
DESCRIPTION:
END:VEVENT
BEGIN:VEVENT
DTSTART:20260314T110000
DTEND:20260314T130000
DTSTAMP:20260425T111218Z
UID:X20260425T111218Z3999@njff.no
ORGANIZER;CN=Norges Jeger og Fisker Forbund:MAILTO:no-reply@njff.no
SEQUENCE:10

TRANSP:OPAQUE
STATUS:CONFIRMED
SUMMARY:Jaktfeltskyting på Steinsgård - 24-01-2026
DESCRIPTION:
END:VEVENT
BEGIN:VEVENT
DTSTART:20260321T110000
DTEND:20260321T130000
DTSTAMP:20260425T111218Z
UID:X20260425T111218Z2153@njff.no
ORGANIZER;CN=Norges Jeger og Fisker Forbund:MAILTO:no-reply@njff.no
SEQUENCE:11

TRANSP:OPAQUE
STATUS:CONFIRMED
SUMMARY:Jaktfeltskyting på Steinsgård - 24-01-2026
DESCRIPTION:
END:VEVENT
BEGIN:VEVENT
DTSTART:20260328T110000
DTEND:20260328T130000
DTSTAMP:20260425T111218Z
UID:X20260425T111218Z2257@njff.no
ORGANIZER;CN=Norges Jeger og Fisker Forbund:MAILTO:no-reply@njff.no
SEQUENCE:12

TRANSP:OPAQUE
STATUS:CONFIRMED
SUMMARY:Jaktfeltskyting på Steinsgård - 24-01-2026
DESCRIPTION:
END:VEVENT
END:VCALENDAR