BEGIN:VCALENDAR
VERSION:2.0
PRODID://BOUVET//no.bouvet.njff//NO
CALSCALE:GREGORIAN
METHOD:PUBLISH
BEGIN:VEVENT
DTSTART:20251023T180000
DTEND:20251023T210000
DTSTAMP:20260422T113029Z
UID:X20260422T113029Z8153@njff.no
ORGANIZER;CN=Norges Jeger og Fisker Forbund:MAILTO:no-reply@njff.no
SEQUENCE:0

TRANSP:OPAQUE
STATUS:CONFIRMED
SUMMARY:Introjakt rev - for ungdom - 23-10-2025
DESCRIPTION:
END:VEVENT
BEGIN:VEVENT
DTSTART:20250821T180000
DTEND:20250821T210000
DTSTAMP:20260422T113029Z
UID:X20260422T113029Z2952@njff.no
ORGANIZER;CN=Norges Jeger og Fisker Forbund:MAILTO:no-reply@njff.no
SEQUENCE:1

TRANSP:OPAQUE
STATUS:CONFIRMED
SUMMARY:Introjakt rev - for ungdom - 23-10-2025
DESCRIPTION:
END:VEVENT
BEGIN:VEVENT
DTSTART:20250904T180000
DTEND:20250904T210000
DTSTAMP:20260422T113029Z
UID:X20260422T113029Z5681@njff.no
ORGANIZER;CN=Norges Jeger og Fisker Forbund:MAILTO:no-reply@njff.no
SEQUENCE:2

TRANSP:OPAQUE
STATUS:CONFIRMED
SUMMARY:Introjakt rev - for ungdom - 23-10-2025
DESCRIPTION:
END:VEVENT
BEGIN:VEVENT
DTSTART:20250918T180000
DTEND:20250918T210000
DTSTAMP:20260422T113029Z
UID:X20260422T113029Z2178@njff.no
ORGANIZER;CN=Norges Jeger og Fisker Forbund:MAILTO:no-reply@njff.no
SEQUENCE:3

TRANSP:OPAQUE
STATUS:CONFIRMED
SUMMARY:Introjakt rev - for ungdom - 23-10-2025
DESCRIPTION:
END:VEVENT
BEGIN:VEVENT
DTSTART:20251001T180000
DTEND:20251001T210000
DTSTAMP:20260422T113029Z
UID:X20260422T113029Z5713@njff.no
ORGANIZER;CN=Norges Jeger og Fisker Forbund:MAILTO:no-reply@njff.no
SEQUENCE:4

TRANSP:OPAQUE
STATUS:CONFIRMED
SUMMARY:Introjakt rev - for ungdom - 23-10-2025
DESCRIPTION:
END:VEVENT
BEGIN:VEVENT
DTSTART:20251021T180000
DTEND:20251021T210000
DTSTAMP:20260422T113029Z
UID:X20260422T113029Z7571@njff.no
ORGANIZER;CN=Norges Jeger og Fisker Forbund:MAILTO:no-reply@njff.no
SEQUENCE:5

TRANSP:OPAQUE
STATUS:CONFIRMED
SUMMARY:Introjakt rev - for ungdom - 23-10-2025
DESCRIPTION:
END:VEVENT
BEGIN:VEVENT
DTSTART:20251023T180000
DTEND:20251023T210000
DTSTAMP:20260422T113029Z
UID:X20260422T113029Z9861@njff.no
ORGANIZER;CN=Norges Jeger og Fisker Forbund:MAILTO:no-reply@njff.no
SEQUENCE:6

TRANSP:OPAQUE
STATUS:CONFIRMED
SUMMARY:Introjakt rev - for ungdom - 23-10-2025
DESCRIPTION:
END:VEVENT
BEGIN:VEVENT
DTSTART:20251106T180000
DTEND:20251106T210000
DTSTAMP:20260422T113029Z
UID:X20260422T113029Z8325@njff.no
ORGANIZER;CN=Norges Jeger og Fisker Forbund:MAILTO:no-reply@njff.no
SEQUENCE:7

TRANSP:OPAQUE
STATUS:CONFIRMED
SUMMARY:Introjakt rev - for ungdom - 23-10-2025
DESCRIPTION:
END:VEVENT
BEGIN:VEVENT
DTSTART:20251120T180000
DTEND:20251120T210000
DTSTAMP:20260422T113029Z
UID:X20260422T113029Z1719@njff.no
ORGANIZER;CN=Norges Jeger og Fisker Forbund:MAILTO:no-reply@njff.no
SEQUENCE:8

TRANSP:OPAQUE
STATUS:CONFIRMED
SUMMARY:Introjakt rev - for ungdom - 23-10-2025
DESCRIPTION:
END:VEVENT
END:VCALENDAR