BEGIN:VCALENDAR
VERSION:2.0
PRODID://BOUVET//no.bouvet.njff//NO
CALSCALE:GREGORIAN
METHOD:PUBLISH
BEGIN:VEVENT
DTSTART:20370227T180000
DTEND:20370227T220000
DTSTAMP:20260421T125108Z
UID:X20260421T125108Z1603@njff.no
ORGANIZER;CN=Norges Jeger og Fisker Forbund:MAILTO:no-reply@njff.no
SEQUENCE:0
RRULE:FREQ=WEEKLY;UNTIL=20610304T000000
TRANSP:OPAQUE
STATUS:CONFIRMED
SUMMARY:Fredagsmøte SJFFU - 27-02-2037
DESCRIPTION:
END:VEVENT
END:VCALENDAR