BEGIN:VCALENDAR
VERSION:2.0
PRODID://BOUVET//no.bouvet.njff//NO
CALSCALE:GREGORIAN
METHOD:PUBLISH
BEGIN:VEVENT
DTSTART:20260618T180000
DTEND:20260618T210000
DTSTAMP:20260423T100408Z
UID:X20260423T100408Z371@njff.no
ORGANIZER;CN=Norges Jeger og Fisker Forbund:MAILTO:no-reply@njff.no
SEQUENCE:0

TRANSP:OPAQUE
STATUS:CONFIRMED
SUMMARY:Jente/dameskyting 18 Juni
DESCRIPTION:
END:VEVENT
END:VCALENDAR