BEGIN:VCALENDAR
VERSION:2.0
PRODID://BOUVET//no.bouvet.njff//NO
CALSCALE:GREGORIAN
METHOD:PUBLISH
BEGIN:VEVENT
DTSTART:20260128T180000
DTEND:20260128T210000
DTSTAMP:20260422T083829Z
UID:X20260422T083829Z7984@njff.no
ORGANIZER;CN=Norges Jeger og Fisker Forbund:MAILTO:no-reply@njff.no
SEQUENCE:0
RRULE:FREQ=WEEKLY;UNTIL=20260225T000000
TRANSP:OPAQUE
STATUS:CONFIRMED
SUMMARY:Rifle skyting innendørs
DESCRIPTION:
END:VEVENT
END:VCALENDAR