BEGIN:VCALENDAR
VERSION:2.0
PRODID://BOUVET//no.bouvet.njff//NO
CALSCALE:GREGORIAN
METHOD:PUBLISH
BEGIN:VEVENT
DTSTART:20260502T140000
DTEND:20260502T160000
DTSTAMP:20260422T040836Z
UID:X20260422T040836Z1088@njff.no
ORGANIZER;CN=Norges Jeger og Fisker Forbund:MAILTO:no-reply@njff.no
SEQUENCE:0
RRULE:FREQ=WEEKLY;UNTIL=20260829T000000
TRANSP:OPAQUE
STATUS:CONFIRMED
SUMMARY:Leirdueskyting Lørdager 2026 - 02-05-2026
DESCRIPTION:
END:VEVENT
END:VCALENDAR