BEGIN:VCALENDAR
VERSION:2.0
PRODID://BOUVET//no.bouvet.njff//NO
CALSCALE:GREGORIAN
METHOD:PUBLISH
BEGIN:VEVENT
DTSTART:20250930T160000
DTEND:20250930T200000
DTSTAMP:20260421T161123Z
UID:X20260421T161123Z8272@njff.no
ORGANIZER;CN=Norges Jeger og Fisker Forbund:MAILTO:no-reply@njff.no
SEQUENCE:0

TRANSP:OPAQUE
STATUS:CONFIRMED
SUMMARY:Fra sentrum til marka
DESCRIPTION:
END:VEVENT
END:VCALENDAR