BEGIN:VCALENDAR
VERSION:2.0
PRODID://BOUVET//no.bouvet.njff//NO
CALSCALE:GREGORIAN
METHOD:PUBLISH
BEGIN:VEVENT
DTSTART:20260420T173000
DTEND:20260420T210000
DTSTAMP:20260419T155105Z
UID:X20260419T155105Z9820@njff.no
ORGANIZER;CN=Norges Jeger og Fisker Forbund:MAILTO:no-reply@njff.no
SEQUENCE:0

TRANSP:OPAQUE
STATUS:CONFIRMED
SUMMARY:Skytetrening rifle/hagle 20/4
DESCRIPTION:
END:VEVENT
END:VCALENDAR