BEGIN:VCALENDAR
VERSION:2.0
PRODID://BOUVET//no.bouvet.njff//NO
CALSCALE:GREGORIAN
METHOD:PUBLISH
BEGIN:VEVENT
DTSTART:20260526T180000
DTEND:20260526T203000
DTSTAMP:20260422T103926Z
UID:X20260422T103926Z2819@njff.no
ORGANIZER;CN=Norges Jeger og Fisker Forbund:MAILTO:no-reply@njff.no
SEQUENCE:0

TRANSP:OPAQUE
STATUS:CONFIRMED
SUMMARY:Hagleskytekurs for jenter
DESCRIPTION:
END:VEVENT
BEGIN:VEVENT
DTSTART:20260519T180000
DTEND:20260519T203000
DTSTAMP:20260422T103926Z
UID:X20260422T103926Z3486@njff.no
ORGANIZER;CN=Norges Jeger og Fisker Forbund:MAILTO:no-reply@njff.no
SEQUENCE:1

TRANSP:OPAQUE
STATUS:CONFIRMED
SUMMARY:Hagleskytekurs for jenter
DESCRIPTION:
END:VEVENT
BEGIN:VEVENT
DTSTART:20260512T180000
DTEND:20260512T203000
DTSTAMP:20260422T103926Z
UID:X20260422T103926Z6029@njff.no
ORGANIZER;CN=Norges Jeger og Fisker Forbund:MAILTO:no-reply@njff.no
SEQUENCE:2

TRANSP:OPAQUE
STATUS:CONFIRMED
SUMMARY:Hagleskytekurs for jenter
DESCRIPTION:
END:VEVENT
BEGIN:VEVENT
DTSTART:20260505T180000
DTEND:20260205T203000
DTSTAMP:20260422T103926Z
UID:X20260422T103926Z2399@njff.no
ORGANIZER;CN=Norges Jeger og Fisker Forbund:MAILTO:no-reply@njff.no
SEQUENCE:3

TRANSP:OPAQUE
STATUS:CONFIRMED
SUMMARY:Hagleskytekurs for jenter
DESCRIPTION:
END:VEVENT
END:VCALENDAR