BEGIN:VCALENDAR
VERSION:2.0
PRODID://BOUVET//no.bouvet.njff//NO
CALSCALE:GREGORIAN
METHOD:PUBLISH
BEGIN:VEVENT
DTSTART:20260823T110000
DTEND:20260823T140000
DTSTAMP:20260422T114300Z
UID:X20260422T114300Z9203@njff.no
ORGANIZER;CN=Norges Jeger og Fisker Forbund:MAILTO:no-reply@njff.no
SEQUENCE:0

TRANSP:OPAQUE
STATUS:CONFIRMED
SUMMARY:Familiedag på Butjernet
DESCRIPTION:
END:VEVENT
END:VCALENDAR