BEGIN:VCALENDAR
VERSION:2.0
PRODID://BOUVET//no.bouvet.njff//NO
CALSCALE:GREGORIAN
METHOD:PUBLISH
BEGIN:VEVENT
DTSTART:20260522T180000
DTEND:20260522T200000
DTSTAMP:20260423T082235Z
UID:X20260423T082235Z7060@njff.no
ORGANIZER;CN=Norges Jeger og Fisker Forbund:MAILTO:no-reply@njff.no
SEQUENCE:0
RRULE:FREQ=WEEKLY;UNTIL=20260904T000000
TRANSP:OPAQUE
STATUS:CONFIRMED
SUMMARY:Elgtrening fredager - 22-05-2026
DESCRIPTION:
END:VEVENT
END:VCALENDAR